BEGIN:VCALENDAR
VERSION:2.0
PRODID:spatie/icalendar-generator
DESCRIPTION:Events from AGBU Sydney
X-WR-CALDESC:Events from AGBU Sydney
REFRESH-INTERVAL;VALUE=DURATION:PT1440M
X-PUBLISHED-TTL:PT1440M
BEGIN:VTIMEZONE
TZID:Australia/Sydney
BEGIN:STANDARD
DTSTART:20160403T030000Z
TZOFFSETFROM:+1100
TZOFFSETTO:+1000
END:STANDARD
BEGIN:DAYLIGHT
DTSTART:20161002T020000Z
TZOFFSETFROM:+1000
TZOFFSETTO:+1100
END:DAYLIGHT
END:VTIMEZONE
BEGIN:VTIMEZONE
TZID:UTC
BEGIN:STANDARD
DTSTART:20250728T142751Z
TZOFFSETFROM:+0000
TZOFFSETTO:+0000
END:STANDARD
END:VTIMEZONE
BEGIN:VEVENT
UID:665-1
DTSTAMP:20260424T142751Z
SUMMARY:Movie Night: Women of 1915
LOCATION:
ORGANIZER;CN=Carlos Hernan Khatchikian:MAILTO:khatchik@gmail.com
DTSTART;TZID=Australia/Sydney:20160911T180000
DTEND;TZID=Australia/Sydney:20160911T210000
X-ALT-DESC;FMTTYPE=TEXT/HTML:AGBU Sydney chapter will feature premiere \"Wo
 men of 1915\". The director Bared Maronian will be present and we will do 
 a Q&amp;amp\;A after the movie.
CATEGORIES:General
URL;VALUE=URI:https://agbu.org.au/mc-events/movie-night-women-of-1915/?mc_i
 d=665
END:VEVENT
END:VCALENDAR